BEGIN:VCALENDAR
VERSION:2.0
PRODID:-//Mairie de Collonges-au-Mont-d&#039;Or//NONSGML Events//EN
CALSCALE:GREGORIAN
X-WR-CALNAME:Mairie de Collonges-au-Mont-d&#039;Or - Events
X-ORIGINAL-URL:https://www.collongesaumontdor.fr/agenda/
X-WR-CALDESC:Mairie de Collonges-au-Mont-d&#039;Or - Events
BEGIN:VEVENT
UID:20260413T1412Z-1776089541.0536-EO-12579-1@51.91.105.206
STATUS:CONFIRMED
DTSTAMP:20260423T090021Z
CREATED:20260413T135554Z
LAST-MODIFIED:20260415T065741Z
DTSTART;TZID=Europe/Paris:20260531T100000
DTEND;TZID=Europe/Paris:20260531T130000
SUMMARY: Balade Collongearde
DESCRIPTION: Partez en famille pour une balade ludique organisée par le Com
 ité des Fêtes\, entre jeu de piste et moments de complicité pour petits et 
 grands !
X-ALT-DESC;FMTTYPE=text/html: <p>Partez en famille pour une balade ludique 
 organisée par le Comité des Fêtes\, entre jeu de piste et moments de compli
 cité pour petits et grands !</p><p>Rendez-vous à la Salle des Fêtes pour un
 e matinée conviviale\, qui se terminera autour d'un pot offert.</p>
CATEGORIES:Associations
LOCATION:Salle des Fêtes
GEO:0.000000;0.000000
ORGANIZER;CN="Mathias FRAISSE":MAILTO:m.fraisse@collongesaumontdor.fr
URL;VALUE=URI:https://www.collongesaumontdor.fr/evenement/balade-collongear
 de/
ATTACH;FMTTYPE=image/jpeg:https://www.collongesaumontdor.fr/wp-content/uploads/2023/09/1-developpement-durable-jardin-daquariacmairie-de-collonges-au-mont-dor-1.jpg
END:VEVENT
BEGIN:VTIMEZONE
TZID:Europe/Paris
BEGIN:STANDARD
TZOFFSETFROM:+0200
TZOFFSETTO:+0100
DTSTART:20251026T010000
TZNAME:CET
END:STANDARD
BEGIN:DAYLIGHT
TZOFFSETFROM:+0100
TZOFFSETTO:+0200
DTSTART:20260329T010000
TZNAME:CEST
END:DAYLIGHT
END:VTIMEZONE
END:VCALENDAR
