BEGIN:VCALENDAR
VERSION:2.0
PRODID:-//Mairie de Collonges-au-Mont-d&#039;Or//NONSGML Events//EN
METHOD:REQUEST
CALSCALE:GREGORIAN
X-WR-CALNAME:Mairie de Collonges-au-Mont-d&#039;Or - Events
X-ORIGINAL-URL:https://www.collongesaumontdor.fr/agenda/
X-WR-CALDESC:Mairie de Collonges-au-Mont-d&#039;Or - Events
BEGIN:VEVENT
UID:20260414T1550Z-1776181844.7159-EO-12585-1@51.91.105.206
STATUS:CONFIRMED
DTSTAMP:20260423T085833Z
CREATED:20260414T075800Z
LAST-MODIFIED:20260414T075800Z
DTSTART;TZID=Europe/Paris:20260530T100000
DTEND;TZID=Europe/Paris:20260530T130000
SUMMARY: Portes ouvertes de l’EMMO et des Ateliers de Collonges
DESCRIPTION: L'École de Musique des Monts d'Or et les Ateliers de Collonges
  vous ouvrent leurs portes\, afin de découvrir leurs activités et vous lais
 ser séduire par leurs programmes !
X-ALT-DESC;FMTTYPE=text/html: <p>L'École de Musique des Monts d'Or et les A
 teliers de Collonges vous ouvrent leurs portes\, afin de découvrir leurs ac
 tivités et vous laisser séduire par leurs programmes !</p>
CATEGORIES:Associations
LOCATION:Algeco - 3\, rue Pierre Dupont
GEO:0;0
ORGANIZER;CN="Mathias FRAISSE":MAILTO:m.fraisse@collongesaumontdor.fr
URL;VALUE=URI:https://www.collongesaumontdor.fr/evenement/portes-ouvertes-d
 e-lemmo-et-des-ateliers-de-collonges/
ATTACH;FMTTYPE=image/jpeg:https://www.collongesaumontdor.fr/wp-content/uploads/2024/06/15-atelier-creatifadobestock-136796287.jpeg
END:VEVENT
BEGIN:VTIMEZONE
TZID:Europe/Paris
BEGIN:STANDARD
TZOFFSETFROM:+0200
TZOFFSETTO:+0100
DTSTART:20251026T010000
TZNAME:CET
END:STANDARD
BEGIN:DAYLIGHT
TZOFFSETFROM:+0100
TZOFFSETTO:+0200
DTSTART:20260329T010000
TZNAME:CEST
END:DAYLIGHT
END:VTIMEZONE
END:VCALENDAR
