BEGIN:VCALENDAR
VERSION:2.0
PRODID:-//Mairie de Collonges-au-Mont-d&#039;Or//NONSGML Events//EN
CALSCALE:GREGORIAN
X-WR-CALNAME:Mairie de Collonges-au-Mont-d&#039;Or - Events
X-ORIGINAL-URL:https://www.collongesaumontdor.fr/agenda/
X-WR-CALDESC:Mairie de Collonges-au-Mont-d&#039;Or - Events
BEGIN:VEVENT
UID:20260414T1507Z-1776179236.0041-EO-12587-1@51.91.105.206
STATUS:CONFIRMED
DTSTAMP:20260423T084946Z
CREATED:20260414T083031Z
LAST-MODIFIED:20260414T083031Z
DTSTART;TZID=Europe/Paris:20260530T200000
DTEND;TZID=Europe/Paris:20260530T220000
SUMMARY: Concert musique et chant
DESCRIPTION: L'École de Musique des Monts d'Or vous invite à un concert de 
 musique et chant\, bénéficiant de l'acoustique exceptionnelle de l'Église d
 u Vieux Collonges.
X-ALT-DESC;FMTTYPE=text/html: <p>L'École de Musique des Monts d'Or vous inv
 ite à un concert de musique et chant\, bénéficiant de l'acoustique exceptio
 nnelle de l'Église du Vieux Collonges.</p>
CATEGORIES:Associations
LOCATION:Eglise du Vieux Collonges
GEO:0.000000;0.000000
ORGANIZER;CN="Mathias FRAISSE":MAILTO:m.fraisse@collongesaumontdor.fr
URL;VALUE=URI:https://www.collongesaumontdor.fr/evenement/concert-musique-e
 t-chant/
ATTACH;FMTTYPE=image/jpeg:https://www.collongesaumontdor.fr/wp-content/uploads/2023/10/adobestock-73457661.jpeg
END:VEVENT
BEGIN:VTIMEZONE
TZID:Europe/Paris
BEGIN:STANDARD
TZOFFSETFROM:+0200
TZOFFSETTO:+0100
DTSTART:20251026T010000
TZNAME:CET
END:STANDARD
BEGIN:DAYLIGHT
TZOFFSETFROM:+0100
TZOFFSETTO:+0200
DTSTART:20260329T010000
TZNAME:CEST
END:DAYLIGHT
END:VTIMEZONE
END:VCALENDAR
